BEGIN:VCALENDAR
VERSION:2.0
PRODID:-//German Oldschool - ECPv6.15.20//NONSGML v1.0//EN
CALSCALE:GREGORIAN
METHOD:PUBLISH
X-WR-CALNAME:German Oldschool
X-ORIGINAL-URL:https://germanoldschool.org
X-WR-CALDESC:Events for German Oldschool
REFRESH-INTERVAL;VALUE=DURATION:PT1H
X-Robots-Tag:noindex
X-PUBLISHED-TTL:PT1H
BEGIN:VTIMEZONE
TZID:Europe/Berlin
BEGIN:DAYLIGHT
TZOFFSETFROM:+0100
TZOFFSETTO:+0200
TZNAME:CEST
DTSTART:20250330T010000
END:DAYLIGHT
BEGIN:STANDARD
TZOFFSETFROM:+0200
TZOFFSETTO:+0100
TZNAME:CET
DTSTART:20251026T010000
END:STANDARD
BEGIN:DAYLIGHT
TZOFFSETFROM:+0100
TZOFFSETTO:+0200
TZNAME:CEST
DTSTART:20260329T010000
END:DAYLIGHT
BEGIN:STANDARD
TZOFFSETFROM:+0200
TZOFFSETTO:+0100
TZNAME:CET
DTSTART:20261025T010000
END:STANDARD
BEGIN:DAYLIGHT
TZOFFSETFROM:+0100
TZOFFSETTO:+0200
TZNAME:CEST
DTSTART:20270328T010000
END:DAYLIGHT
BEGIN:STANDARD
TZOFFSETFROM:+0200
TZOFFSETTO:+0100
TZNAME:CET
DTSTART:20271031T010000
END:STANDARD
END:VTIMEZONE
BEGIN:VEVENT
DTSTART;TZID=Europe/Berlin:20260515T080000
DTEND;TZID=Europe/Berlin:20260515T170000
DTSTAMP:20260422T224919
CREATED:20251204T135458Z
LAST-MODIFIED:20251204T135551Z
UID:2591-1778832000-1778864400@germanoldschool.org
SUMMARY:Weinfest 2026
DESCRIPTION:Wine and MtG Old School in the Pfalz – save the date
URL:https://germanoldschool.org/event/weinfest-2026/
LOCATION:Weinfest Leinsweiler\, Leinsweiler\, 76829\, Germany
CATEGORIES:Meet,Tournament
ORGANIZER;CN="Kugelblitze":MAILTO:kugelblitze9394@gmail.com
END:VEVENT
BEGIN:VEVENT
DTSTART;TZID=Europe/Berlin:20260529T090000
DTEND;TZID=Europe/Berlin:20260531T170000
DTSTAMP:20260422T224919
CREATED:20251204T135115Z
LAST-MODIFIED:20251204T135116Z
UID:2586-1780045200-1780246800@germanoldschool.org
SUMMARY:Viennageddon 2026
DESCRIPTION:Old School Championship and Premodern Championship in Vienna! \n\n\n\nSave the date and stay tuned for more information!
URL:https://germanoldschool.org/event/viennageddon-2026/
LOCATION:Vienna\, Austria
CATEGORIES:Meet,Tournament
ATTACH;FMTTYPE=image/webp:https://germanoldschool.org/wp-content/uploads/2025/12/viennageddon-2026-flyer_index-a.webp
ORGANIZER;CN="Lions of Austria":MAILTO:lionsofaustria@gmx.net
END:VEVENT
END:VCALENDAR