BEGIN:VCALENDAR
VERSION:2.0
PRODID:-//German Oldschool - ECPv6.15.20//NONSGML v1.0//EN
CALSCALE:GREGORIAN
METHOD:PUBLISH
X-ORIGINAL-URL:https://germanoldschool.org
X-WR-CALDESC:Events for German Oldschool
REFRESH-INTERVAL;VALUE=DURATION:PT1H
X-Robots-Tag:noindex
X-PUBLISHED-TTL:PT1H
BEGIN:VTIMEZONE
TZID:Europe/Berlin
BEGIN:DAYLIGHT
TZOFFSETFROM:+0100
TZOFFSETTO:+0200
TZNAME:CEST
DTSTART:20250330T010000
END:DAYLIGHT
BEGIN:STANDARD
TZOFFSETFROM:+0200
TZOFFSETTO:+0100
TZNAME:CET
DTSTART:20251026T010000
END:STANDARD
BEGIN:DAYLIGHT
TZOFFSETFROM:+0100
TZOFFSETTO:+0200
TZNAME:CEST
DTSTART:20260329T010000
END:DAYLIGHT
BEGIN:STANDARD
TZOFFSETFROM:+0200
TZOFFSETTO:+0100
TZNAME:CET
DTSTART:20261025T010000
END:STANDARD
BEGIN:DAYLIGHT
TZOFFSETFROM:+0100
TZOFFSETTO:+0200
TZNAME:CEST
DTSTART:20270328T010000
END:DAYLIGHT
BEGIN:STANDARD
TZOFFSETFROM:+0200
TZOFFSETTO:+0100
TZNAME:CET
DTSTART:20271031T010000
END:STANDARD
END:VTIMEZONE
BEGIN:VEVENT
DTSTART;TZID=Europe/Berlin:20260131T090000
DTEND;TZID=Europe/Berlin:20260201T170000
DTSTAMP:20260423T015648
CREATED:20251204T134640Z
LAST-MODIFIED:20251204T134641Z
UID:2576-1769850000-1769965200@germanoldschool.org
SUMMARY:Eel Castle Cup 2026
DESCRIPTION:Join the legendary battle as we host the largest Old School Magic event in Denmark. \n\n\n\n31 January: Main tournament – Swedish with Danish reprint policy \n\n\n\n1 February: Danish Nationals – Team unified \n\n\n\nThere will be:a Goodiebag for everyoneCustom-made and unique prizes!RaffleAll meals includedFun and shenanigansVendors on siteBarand much more…
URL:https://germanoldschool.org/event/eel-castle-cup-2026/
LOCATION:Aalborg\, Nordjylland\, Denmark
CATEGORIES:Meet,Tournament
ATTACH;FMTTYPE=image/jpeg:https://germanoldschool.org/wp-content/uploads/2025/12/2025-12-04_Eel-Castle-Cup_2026_banner.jpg
END:VEVENT
END:VCALENDAR