BEGIN:VCALENDAR
VERSION:2.0
PRODID:-//German Oldschool - ECPv6.15.20//NONSGML v1.0//EN
CALSCALE:GREGORIAN
METHOD:PUBLISH
X-WR-CALNAME:German Oldschool
X-ORIGINAL-URL:https://germanoldschool.org
X-WR-CALDESC:Events for German Oldschool
REFRESH-INTERVAL;VALUE=DURATION:PT1H
X-Robots-Tag:noindex
X-PUBLISHED-TTL:PT1H
BEGIN:VTIMEZONE
TZID:Europe/Berlin
BEGIN:DAYLIGHT
TZOFFSETFROM:+0100
TZOFFSETTO:+0200
TZNAME:CEST
DTSTART:20240331T010000
END:DAYLIGHT
BEGIN:STANDARD
TZOFFSETFROM:+0200
TZOFFSETTO:+0100
TZNAME:CET
DTSTART:20241027T010000
END:STANDARD
BEGIN:DAYLIGHT
TZOFFSETFROM:+0100
TZOFFSETTO:+0200
TZNAME:CEST
DTSTART:20250330T010000
END:DAYLIGHT
BEGIN:STANDARD
TZOFFSETFROM:+0200
TZOFFSETTO:+0100
TZNAME:CET
DTSTART:20251026T010000
END:STANDARD
BEGIN:DAYLIGHT
TZOFFSETFROM:+0100
TZOFFSETTO:+0200
TZNAME:CEST
DTSTART:20260329T010000
END:DAYLIGHT
BEGIN:STANDARD
TZOFFSETFROM:+0200
TZOFFSETTO:+0100
TZNAME:CET
DTSTART:20261025T010000
END:STANDARD
END:VTIMEZONE
BEGIN:VEVENT
DTSTART;TZID=Europe/Berlin:20251101T080000
DTEND;TZID=Europe/Berlin:20251130T170000
DTSTAMP:20260423T044725
CREATED:20250824T184750Z
LAST-MODIFIED:20250824T184932Z
UID:2541-1761984000-1764522000@germanoldschool.org
SUMMARY:OS DACH League November ’25
DESCRIPTION:*** Für alle deutschsprachigen! ***German speaking old school league. The format will be chosen by participants upon registration – details will be available in the playgroup and the Google Sheet.Swedish is usually the preferred format but at least every third month is played with a different OS rule set. Reprints (same art and frame\, no foil) and proxies are always allowed in this league.Check out the Facebook group Old School MtG 93/94 – D A CHhttps://www.facebook.com/groups/431622253688351/ or the DACH Discord server as alternative to Facebook. \n\n\n\nRegistration: https://cutt.ly/dachos
URL:https://germanoldschool.org/event/os-dach-league-november-25/
LOCATION:Online
CATEGORIES:Webcam Tournament
ATTACH;FMTTYPE=image/png:https://germanoldschool.org/wp-content/uploads/2021/07/2021-04-03-OS-DACh.png
END:VEVENT
BEGIN:VEVENT
DTSTART;TZID=Europe/Berlin:20251121T170000
DTEND;TZID=Europe/Berlin:20251121T230000
DTSTAMP:20260423T044725
CREATED:20250607T155132Z
LAST-MODIFIED:20250607T155309Z
UID:2516-1763744400-1763766000@germanoldschool.org
SUMMARY:Merchant Ship Cup IV - Friday Event
DESCRIPTION:The hanseatic oldschool community invites you the Merchant Ship Cup for the fourth time.The event takes place in the Wavecity Smash Burger in Hamburg.We will cap at 40 players because we currently enjoy smaller events. \n\n\n\nMain event on SaturdayFormat: Swedish with regular reprints including ICE.Six rounds of Swiss plus top 8 \n\n\n\nSide event on Friday (Nov 21\, 2025)Format: Stylelander (80 cards Highlander with Stapleless B&R list)starting time est. at 17:00 – TBC \n\n\n\nFor further details please check the slides or contact Albert or Vincent.
URL:https://germanoldschool.org/event/merchant-ship-cup-iv-friday-event/
LOCATION:Wavecity Kitchen & Bar\, Hongkongstraße 2-4\, Hamburg\, 20457\, Germany
CATEGORIES:Meet,Tournament
ATTACH;FMTTYPE=image/jpeg:https://germanoldschool.org/wp-content/uploads/2022/10/2022-10-01-Hanseatic-Oldschool-banner-new.jpg
END:VEVENT
BEGIN:VEVENT
DTSTART;TZID=Europe/Berlin:20251122T100000
DTEND;TZID=Europe/Berlin:20251122T210000
DTSTAMP:20260423T044725
CREATED:20250306T204043Z
LAST-MODIFIED:20250607T154347Z
UID:2496-1763805600-1763845200@germanoldschool.org
SUMMARY:Merchant Ship Cup IV
DESCRIPTION:The hanseatic oldschool community invites you the Merchant Ship Cup for the fourth time.The event takes place in the Wavecity Smash Burger in Hamburg.We will cap at 40 players because we currently enjoy smaller events. \n\n\n\nMain event on SaturdayFormat: Swedish with regular reprints including ICE.Six rounds of Swiss plus top 8 \n\n\n\nSide event on Friday (Nov 21\, 2025)Format: Stylelander (80 cards Highlander with Stapleless B&R list)starting time est. at 17:00 – TBC \n\n\n\nFor further details please check the slides or contact Albert or Vincent.
URL:https://germanoldschool.org/event/merchant-ship-cup-iv/
LOCATION:Wavecity Kitchen & Bar\, Hongkongstraße 2-4\, Hamburg\, 20457\, Germany
CATEGORIES:Meet,Tournament
ATTACH;FMTTYPE=image/jpeg:https://germanoldschool.org/wp-content/uploads/2022/10/2022-10-01-Hanseatic-Oldschool-banner-new.jpg
END:VEVENT
END:VCALENDAR