BEGIN:VCALENDAR
VERSION:2.0
PRODID:-//German Oldschool - ECPv6.15.20//NONSGML v1.0//EN
CALSCALE:GREGORIAN
METHOD:PUBLISH
X-ORIGINAL-URL:https://germanoldschool.org
X-WR-CALDESC:Events for German Oldschool
REFRESH-INTERVAL;VALUE=DURATION:PT1H
X-Robots-Tag:noindex
X-PUBLISHED-TTL:PT1H
BEGIN:VTIMEZONE
TZID:Europe/Berlin
BEGIN:DAYLIGHT
TZOFFSETFROM:+0100
TZOFFSETTO:+0200
TZNAME:CEST
DTSTART:20230326T010000
END:DAYLIGHT
BEGIN:STANDARD
TZOFFSETFROM:+0200
TZOFFSETTO:+0100
TZNAME:CET
DTSTART:20231029T010000
END:STANDARD
BEGIN:DAYLIGHT
TZOFFSETFROM:+0100
TZOFFSETTO:+0200
TZNAME:CEST
DTSTART:20240331T010000
END:DAYLIGHT
BEGIN:STANDARD
TZOFFSETFROM:+0200
TZOFFSETTO:+0100
TZNAME:CET
DTSTART:20241027T010000
END:STANDARD
BEGIN:DAYLIGHT
TZOFFSETFROM:+0100
TZOFFSETTO:+0200
TZNAME:CEST
DTSTART:20250330T010000
END:DAYLIGHT
BEGIN:STANDARD
TZOFFSETFROM:+0200
TZOFFSETTO:+0100
TZNAME:CET
DTSTART:20251026T010000
END:STANDARD
END:VTIMEZONE
BEGIN:VEVENT
DTSTART;TZID=Europe/Berlin:20240501T080000
DTEND;TZID=Europe/Berlin:20240531T170000
DTSTAMP:20260424T053936
CREATED:20240101T162457Z
LAST-MODIFIED:20240101T162457Z
UID:2172-1714550400-1717174800@germanoldschool.org
SUMMARY:OS DACH League May ’24
DESCRIPTION:*** Für alle deutschsprachigen! ***German speaking old school league. The format will be chosen by participants upon registration – details will be available soon. Swedish is usually the preferred format but at least every third month is played with a different OS rule set. Reprints (same art and frame\, no foil) and proxies are always allowed in this league.Make sure to check out the Facebook group Old School MtG 93/94 – D A CHhttps://www.facebook.com/groups/431622253688351/ \n\n\n\nDiscord server is available as alternative to Facebook. \n\n\n\nRegistration: https://cutt.ly/dachos
URL:https://germanoldschool.org/event/os-dach-league-may-24/
LOCATION:Online
CATEGORIES:Webcam Tournament
ATTACH;FMTTYPE=image/png:https://germanoldschool.org/wp-content/uploads/2021/07/2021-04-03-OS-DACh.png
END:VEVENT
BEGIN:VEVENT
DTSTART;TZID=Europe/Berlin:20240504T180000
DTEND;TZID=Europe/Berlin:20240504T230000
DTSTAMP:20260424T053936
CREATED:20240504T115418Z
LAST-MODIFIED:20240504T115418Z
UID:2235-1714845600-1714863600@germanoldschool.org
SUMMARY:Hanseatic Oldschool Tournament 22
DESCRIPTION:Paperless
URL:https://germanoldschool.org/event/hanseatic-oldschool-tournament-22/
LOCATION:Harburger Magicbuden e.V.\, Gazertstraße 26\, Hamburg\, Hamburg\, 21075\, Germany
CATEGORIES:Tournament
ATTACH;FMTTYPE=image/jpeg:https://germanoldschool.org/wp-content/uploads/2022/03/2022-03-01-Hanseatic-Logo.jpg
END:VEVENT
BEGIN:VEVENT
DTSTART;TZID=Europe/Berlin:20240518T110000
DTEND;TZID=Europe/Berlin:20240518T190000
DTSTAMP:20260424T053936
CREATED:20240101T173735Z
LAST-MODIFIED:20240101T193027Z
UID:2201-1716030000-1716058800@germanoldschool.org
SUMMARY:Weinfest 2024
DESCRIPTION:Dear Old School MTG Enthusiasts\, \n\n\n\nJoin us for an exciting tournament hosted by “Kugelblitze and friends” on May 18\, 2024\, in Leinsweiler\, Germany (76829). This marks our second event\, and we are looking forward to providing an even better experience than last time. \n\n\n\nThe tournament kicks off at 11 am in the Swedish format with Gentlemen’s rules (no Library of Alexandria\, Ancestral Recall\, and Mind Twist allowed). Reprints are permitted as long as they have the same frame\, artwork\, and are not foil (explicit approval for the legality of WCD/IE/CE/M30). Prizes await both unpowered and “spicy” decks. \n\n\n\nEnjoy Swiss rounds with 5-6 sessions and a Top-4/8\, depending on the number of participants. During breaks\, indulge in “Dosenwurst” for sustenance\, and in the evening\, relish “Pfälzer Spezialitäten” with affordable beverages to keep you hydrated. \n\n\n\nThe participation fee is €50\, inclusive of meals and some goodies (stay tuned for the announcement). Excess funds will be donated to local charities. Please inform us of any allergies or intolerances. \n\n\n\nIn addition to the main event\, we are planning a Friday Side-Event: 7pts Singleton in the 2-Headed Giant format with randomly assembled teams. It starts at 6 pm for an evening of casual fun. \n\n\n\n**Exciting News!**We are hosting a raffle during the event and appreciate donations contributing to the prize pool. Your generosity adds an extra element of fun to the day\, and proceeds from the raffle will be donated. \n\n\n\nSecure your spot through https://tolaria.app by March 31\, 2024\, and showcase your skills in Old School MTG. \n\n\n\nBest regards\,“Kugelblitze and friends” \n\n\n\nPlease transfer the participation fee to https://paypal.me/MarioMurr. Questions? Contact us via Discord\, Twitter (merhans)\, or email at kugelblitze9394@gmail.com
URL:https://germanoldschool.org/event/weinfest-2024/
LOCATION:Weinfest Leinsweiler\, Leinsweiler\, 76829\, Germany
CATEGORIES:Tournament
ATTACH;FMTTYPE=image/jpeg:https://germanoldschool.org/wp-content/uploads/2024/01/2024-01-01-Weinfest-2024-banner.jpg
ORGANIZER;CN="Kugelblitze":MAILTO:kugelblitze9394@gmail.com
END:VEVENT
END:VCALENDAR