BEGIN:VCALENDAR
VERSION:2.0
PRODID:-//German Oldschool - ECPv6.15.20//NONSGML v1.0//EN
CALSCALE:GREGORIAN
METHOD:PUBLISH
X-WR-CALNAME:German Oldschool
X-ORIGINAL-URL:https://germanoldschool.org
X-WR-CALDESC:Events for German Oldschool
REFRESH-INTERVAL;VALUE=DURATION:PT1H
X-Robots-Tag:noindex
X-PUBLISHED-TTL:PT1H
BEGIN:VTIMEZONE
TZID:Europe/Berlin
BEGIN:DAYLIGHT
TZOFFSETFROM:+0100
TZOFFSETTO:+0200
TZNAME:CEST
DTSTART:20230326T010000
END:DAYLIGHT
BEGIN:STANDARD
TZOFFSETFROM:+0200
TZOFFSETTO:+0100
TZNAME:CET
DTSTART:20231029T010000
END:STANDARD
BEGIN:DAYLIGHT
TZOFFSETFROM:+0100
TZOFFSETTO:+0200
TZNAME:CEST
DTSTART:20240331T010000
END:DAYLIGHT
BEGIN:STANDARD
TZOFFSETFROM:+0200
TZOFFSETTO:+0100
TZNAME:CET
DTSTART:20241027T010000
END:STANDARD
BEGIN:DAYLIGHT
TZOFFSETFROM:+0100
TZOFFSETTO:+0200
TZNAME:CEST
DTSTART:20250330T010000
END:DAYLIGHT
BEGIN:STANDARD
TZOFFSETFROM:+0200
TZOFFSETTO:+0100
TZNAME:CET
DTSTART:20251026T010000
END:STANDARD
END:VTIMEZONE
BEGIN:VTIMEZONE
TZID:Europe/Rome
BEGIN:DAYLIGHT
TZOFFSETFROM:+0100
TZOFFSETTO:+0200
TZNAME:CEST
DTSTART:20230326T010000
END:DAYLIGHT
BEGIN:STANDARD
TZOFFSETFROM:+0200
TZOFFSETTO:+0100
TZNAME:CET
DTSTART:20231029T010000
END:STANDARD
BEGIN:DAYLIGHT
TZOFFSETFROM:+0100
TZOFFSETTO:+0200
TZNAME:CEST
DTSTART:20240331T010000
END:DAYLIGHT
BEGIN:STANDARD
TZOFFSETFROM:+0200
TZOFFSETTO:+0100
TZNAME:CET
DTSTART:20241027T010000
END:STANDARD
BEGIN:DAYLIGHT
TZOFFSETFROM:+0100
TZOFFSETTO:+0200
TZNAME:CEST
DTSTART:20250330T010000
END:DAYLIGHT
BEGIN:STANDARD
TZOFFSETFROM:+0200
TZOFFSETTO:+0100
TZNAME:CET
DTSTART:20251026T010000
END:STANDARD
END:VTIMEZONE
BEGIN:VEVENT
DTSTART;TZID=Europe/Berlin:20240401T080000
DTEND;TZID=Europe/Berlin:20240430T170000
DTSTAMP:20260424T064252
CREATED:20240101T162445Z
LAST-MODIFIED:20240101T162445Z
UID:2170-1711958400-1714496400@germanoldschool.org
SUMMARY:OS DACH League April ’24
DESCRIPTION:*** Für alle deutschsprachigen! ***German speaking old school league. The format will be chosen by participants upon registration – details will be available soon. Swedish is usually the preferred format but at least every third month is played with a different OS rule set. Reprints (same art and frame\, no foil) and proxies are always allowed in this league.Make sure to check out the Facebook group Old School MtG 93/94 – D A CHhttps://www.facebook.com/groups/431622253688351/ \n\n\n\nDiscord server is available as alternative to Facebook. \n\n\n\nRegistration: https://cutt.ly/dachos
URL:https://germanoldschool.org/event/os-dach-league-april-24/
LOCATION:Online
CATEGORIES:Webcam Tournament
ATTACH;FMTTYPE=image/png:https://germanoldschool.org/wp-content/uploads/2021/07/2021-04-03-OS-DACh.png
END:VEVENT
BEGIN:VEVENT
DTSTART;TZID=Europe/Rome:20240427T080000
DTEND;TZID=Europe/Rome:20240428T170000
DTSTAMP:20260424T064252
CREATED:20240101T193758Z
LAST-MODIFIED:20240101T193758Z
UID:2207-1714204800-1714323600@germanoldschool.org
SUMMARY:Prosecco Cup 2024
DESCRIPTION:Venezia Lions are very happy to invite you to the event of our joyful community!The event you were waiting for without knowing it.Join us for two days of matches surrounded by hills and history\, local food and wines for an unforgettable spring weekend in friendship slinging Oooooold spells \n\n\n\n Where Conegliano – 31015 – (TV) – Italy –For more than four centuries (1337/1797) Conegliano was part of Venezia dominationLocation:We’ll be in the medieval center of the town\, surrounded by Prosecco Hills\, in an historical bar\, Caffè Al Teatro – https://goo.gl/maps/RvkrRMa4jjdb8Fh37 \n\n\n\n When 27/28th April 2024 \n\n\n\n Rules  \n\n\n\n-Atlantic with Reprints\, Proxies not allowed\, CE/IE Allowed- \n\n\n\nDay 1 *Main Event* (Saturday 27th April Check-In Time within 13:00): Rules: Atlantic with reprints\, CE/IE Allowed \n\n\n\nDay 2 *Lions Day* (Sunday 28th April Check-In Time within 10:00): Rules: Atlantic+Unpowered+Gentlemen (No P9\, No LoA\, No Mind Twist).*Themed\, spicy and flavor decks are mandatory*: Amaze us with your ‘Trees Deck’ and win against an Aggro-Camels! \n\n\n\n Prizes Prizes: one weekend in friendship is the first prize for all\, but valuable prizes will be lottery drawn each day\, randomly\, among participants\, customized prizes for the winners\, many gadgets! \n\n\n\n Costs&Fee  \n\n\n\nDay 1: 35€ euro per person\, 1 meal included (dinner together with typical local food): beverages not included are available at the bar.Day 2: 30€ euro per person\, 1 meal included (lunch together with typical local food): beverages not included are available at the bar.We know there is no Planet-B\, so if you are vegetarian/vegan tell us in advance and you’ll be fine (you are welcome) \n\n\n\nMaximum cap: 40 playersPayment:It helps us a lot if you confirm your presence in advance by paying your fee through PayPal: https://paypal.me/venezialionsNOTE: please specify in the note: Name\, Surname\, DayInfo: venezialions@gmail.com \n\n\n\n LOGISTIC INFO & FAQ  \n\n\n\nHow can I get there?– CAR: Be aware: the bar is in the traffic-restricted zone\, no cars allowed in the bar streeto Free parking for your car: https://maps.app.goo.gl/5zyjNoMxSRFFzmkp8– TRAIN:o The tournament is 4 minutes by walk to the train station of Conegliano: https://www.trenitalia.com/– FLIGHT:o The closest hub is Venice Airport\, https://www.veneziaairport.it/\, then you can catch a train or rent a car\, Venezia is 50 minutes by train roughly\, directly connected to Conegliano station\, trains are at every hour!Another option even closer (30 minutes) could be Treviso Airport: https://www.trevisoairport.it/ \n\n\n\nWhere do I sleep?There are plenty of accommodations (hotels\, B&B) in Conegliano city and surrounding area\, both the center and the hills are fine\, just look to the most popular sites of accommodation\, otherwise just tell us what you want\, and we help you to find your best solution.Do you prefer to sleep in a vineyard in the hills of Prosecco? Tell us what you are looking for\, we help!Many rooms are available in the surrounding are in farmhouse\, vineyard\, and castles.Ask for tips flyer if needed! \n\n\n\nWhere do I eat?The tournament is placed into a bar\, so you can eat with us for two days (included in the fees are two meals\, one per day)\, local tapas and “cicchetti”/street Italian food is always available.The center of the town has many restaurants and bar\, for typical restaurant we suggest the restaurant of the old castle\, prices are cheap\, local recipes and wines and the landscape view is breathless: https://www.ristorantealcastello.it/Someone says good Italian gourmet Pizza? https://alcantonetconegliano.it/ \n\n\n\nHave some extra days more to spend here? Look at your options:– https://www.facebook.com/VeneziaLions/posts/216508457556248?ref=embed_post– https://www.visitconegliano.it/en/– https://www.youtube.com/watch?v=MaFmyD-aRiI \n\n\n\nFAQ:? – What is the alcohol driving limit in Italy?! – The limit is 0\,5 g/l
URL:https://germanoldschool.org/event/prosecco-cup-2024/
LOCATION:CaffeTeatro Conegliano\, Piazza Giovanni Battista Cima\, 3\, Conegliano\, Veneto\, 31015\, Italy
CATEGORIES:Meet,Tournament
ATTACH;FMTTYPE=image/jpeg:https://germanoldschool.org/wp-content/uploads/2024/01/2024-01-01-Prosecco-Cup-2024-banner.jpg
END:VEVENT
END:VCALENDAR