BEGIN:VCALENDAR
VERSION:2.0
PRODID:-//German Oldschool - ECPv6.15.20//NONSGML v1.0//EN
CALSCALE:GREGORIAN
METHOD:PUBLISH
X-WR-CALNAME:German Oldschool
X-ORIGINAL-URL:https://germanoldschool.org
X-WR-CALDESC:Events for German Oldschool
REFRESH-INTERVAL;VALUE=DURATION:PT1H
X-Robots-Tag:noindex
X-PUBLISHED-TTL:PT1H
BEGIN:VTIMEZONE
TZID:Europe/Berlin
BEGIN:DAYLIGHT
TZOFFSETFROM:+0100
TZOFFSETTO:+0200
TZNAME:CEST
DTSTART:20220327T010000
END:DAYLIGHT
BEGIN:STANDARD
TZOFFSETFROM:+0200
TZOFFSETTO:+0100
TZNAME:CET
DTSTART:20221030T010000
END:STANDARD
BEGIN:DAYLIGHT
TZOFFSETFROM:+0100
TZOFFSETTO:+0200
TZNAME:CEST
DTSTART:20230326T010000
END:DAYLIGHT
BEGIN:STANDARD
TZOFFSETFROM:+0200
TZOFFSETTO:+0100
TZNAME:CET
DTSTART:20231029T010000
END:STANDARD
BEGIN:DAYLIGHT
TZOFFSETFROM:+0100
TZOFFSETTO:+0200
TZNAME:CEST
DTSTART:20240331T010000
END:DAYLIGHT
BEGIN:STANDARD
TZOFFSETFROM:+0200
TZOFFSETTO:+0100
TZNAME:CET
DTSTART:20241027T010000
END:STANDARD
END:VTIMEZONE
BEGIN:VEVENT
DTSTART;TZID=Europe/Berlin:20231201T080000
DTEND;TZID=Europe/Berlin:20231231T170000
DTSTAMP:20260424T114019
CREATED:20231007T185858Z
LAST-MODIFIED:20231007T185900Z
UID:2146-1701417600-1704042000@germanoldschool.org
SUMMARY:OS DACH League December ’23
DESCRIPTION:*** Für alle deutschsprachigen! ***German speaking old school league. The format will be chosen by participants upon registration – details will be available soon. Swedish is usually the preferred format but at least every third month is played with a different OS rule set. Reprints (same art and frame\, no foil) and proxies are always allowed in this league.Make sure to check out the Facebook group Old School MtG 93/94 – D A CHhttps://www.facebook.com/groups/431622253688351/ \n\n\n\nDiscord server is available as alternative to Facebook. \n\n\n\nRegistration: https://cutt.ly/dachos
URL:https://germanoldschool.org/event/os-dach-league-december-23/
LOCATION:Online
CATEGORIES:Webcam Tournament
ATTACH;FMTTYPE=image/png:https://germanoldschool.org/wp-content/uploads/2021/07/2021-04-03-OS-DACh.png
END:VEVENT
BEGIN:VEVENT
DTSTART;TZID=Europe/Berlin:20231202T103000
DTEND;TZID=Europe/Berlin:20231202T183000
DTSTAMP:20260424T114019
CREATED:20230718T142637Z
LAST-MODIFIED:20230718T145227Z
UID:2054-1701513000-1701541800@germanoldschool.org
SUMMARY:Hurloon Battle 2023
DESCRIPTION:Event in Düdingen Switzerland 🙂 \n\n\n\nRegistration under info@schwertundfeder.comDoors: 10.30Starting time Main Event (Old School\, Swedish – Open Reprint): 11.00Tournament mode Main Event: 6 Swiss rounds followed by a top 2 \n\n\n\nStarting time Side Event: 18.30 (Special format\, details will be published later)Tournament mode Side Event: 3-4 Swiss rounds followed by a top 2 \n\n\n\nPrice Pool:We will have a fancy price pool to choose from for the winners of the Main and Side EventStarting Fee Main Event: 20.-Starting Fee Side Event: 10.- \n\n\n\nLocation:Graffiti-Fun CenterBonnstrasse 223186 DüdingenSwitzerland \n\n\n\nBeverages/Food: Will be available at the site (not included in the starting fee) – it is not allowed to bring your own beverage/food! Thanks you and greetingsThomas
URL:https://germanoldschool.org/event/__trashed/
LOCATION:Graffiti-Fun Center\, Bonnstrasse 22\, Düdingen\, 3186\, Switzerland
CATEGORIES:Meet,Tournament
ATTACH;FMTTYPE=image/jpeg:https://germanoldschool.org/wp-content/uploads/2023/07/2023-07-18-Hurloon-Battle-2023-banner.jpeg
ORGANIZER;CN="Thomas Vaucher":MAILTO:info@schwertundfeder.com
END:VEVENT
BEGIN:VEVENT
DTSTART;TZID=Europe/Berlin:20231202T180000
DTEND;TZID=Europe/Berlin:20231202T233000
DTSTAMP:20260424T114019
CREATED:20231007T163451Z
LAST-MODIFIED:20231020T191225Z
UID:2142-1701540000-1701559800@germanoldschool.org
SUMMARY:Hanseatic OS Advent Tournament
DESCRIPTION:Save the date – date moved from 25.11. to 2.12. – announcement done by Albert \n\n\n\nFormat: Hanseatic Stapleless Oldschool !!! \n\n\n\nThe list of banned cards (staples) is available here: https://docs.google.com/spreadsheets/d/1rPD2wlnu6PS01D4VA4_1q3V6XRunF6-FwW18DRVR7VQ/ – as of today the list is still subject to change \n\n\n\nAm Samstag den 2.12. findet unser Adventsturnier statt.Um Abwechslung zu haben\, ist mir die Idee gekommen alle staple zu bannen.Damit jeder genug Zeit zum basteln hat kündigen wir das jetzt schon an.
URL:https://germanoldschool.org/event/hanseatic-os-advent-tournament/
LOCATION:Harburger Magicbuden e.V.\, Gazertstraße 26\, Hamburg\, Hamburg\, 21075\, Germany
CATEGORIES:Tournament
ATTACH;FMTTYPE=image/jpeg:https://germanoldschool.org/wp-content/uploads/2022/03/2022-03-01-Hanseatic-Logo.jpg
END:VEVENT
BEGIN:VEVENT
DTSTART;TZID=Europe/Berlin:20231209T100000
DTEND;TZID=Europe/Berlin:20231209T170000
DTSTAMP:20260424T114019
CREATED:20230626T140740Z
LAST-MODIFIED:20230626T140827Z
UID:2032-1702116000-1702141200@germanoldschool.org
SUMMARY:Knights of Thorn X
DESCRIPTION:Tournament using Swedish rules in Deventer\, Netherlands organized by the Knights of Thorn. \n\n\n\nRegistration by e-mail: knights.of.thorn@gmail.com
URL:https://germanoldschool.org/event/knights-of-thorn-x/
LOCATION:Deventer\, Deventer\, Netherlands
CATEGORIES:Tournament
ATTACH;FMTTYPE=image/jpeg:https://germanoldschool.org/wp-content/uploads/2023/06/2023-06-26-knights-of-thorn.jpg
END:VEVENT
BEGIN:VEVENT
DTSTART;TZID=Europe/Berlin:20231216T080000
DTEND;TZID=Europe/Berlin:20231216T170000
DTSTAMP:20260424T114019
CREATED:20230827T182311Z
LAST-MODIFIED:20230902T122916Z
UID:2114-1702713600-1702746000@germanoldschool.org
SUMMARY:Wanderlust Cup 2
DESCRIPTION:Details will follow \n\n\n\n#savethedate
URL:https://germanoldschool.org/event/wanderlust-cup-2/
LOCATION:BB-Spiele\, Kolbermoorer Str. 20\, Rosenheim\, 83026\, Germany
CATEGORIES:Tournament
ATTACH;FMTTYPE=image/jpeg:https://germanoldschool.org/wp-content/uploads/2023/08/2023-09-02-Wanderlust-Cup-2-banner.jpg
END:VEVENT
END:VCALENDAR